BEGIN:VCALENDAR
VERSION:2.0
PRODID:-//Tukios.com/
BEGIN:VEVENT
UID:a7e9dcac-c662-4d01-9364-8fdcf5bb23cd@www.jpmooremortuary.com
DTSTAMP:20260420T035705Z
DTSTART:20260423T200000Z
DTEND:20260423T220000Z
SUMMARY:Viewing & Visitation
DESCRIPTION:
URL:https://www.jpmooremortuary.com/obituaries/cather-cusack-wilson
LOCATION: 2555 N Monroe St  Tallahassee FL 32303
GEO:30.4762358;-84.2958084
END:VEVENT
END:VCALENDAR