BEGIN:VCALENDAR
VERSION:2.0
PRODID:-//Tukios.com/
BEGIN:VEVENT
UID:c596cb01-13f4-4f65-8640-fd4387189a25@www.jpmooremortuary.com
DTSTAMP:20260420T035042Z
DTSTART:20260423T223000Z
DTEND:20260423T233000Z
SUMMARY:Delta Sigma Theta Omega Omega Service
DESCRIPTION:
URL:https://www.jpmooremortuary.com/obituaries/cather-cusack-wilson
LOCATION: 2555 N Monroe St  Tallahassee FL 32303
GEO:30.4762358;-84.2958084
END:VEVENT
END:VCALENDAR