BEGIN:VCALENDAR
VERSION:2.0
PRODID:-//Tukios.com/
BEGIN:VEVENT
UID:c910f487-27c9-4be5-9fd3-8cb6a97a4474@www.jpmooremortuary.com
DTSTAMP:20260420T035243Z
DTSTART:20260424T160000Z
DTEND:20260424T170000Z
SUMMARY:Funeral Service
DESCRIPTION:
URL:https://www.jpmooremortuary.com/obituaries/cather-cusack-wilson
LOCATION: 2344 Lake Bradford Rd  Tallahassee FL 32310
GEO:30.414533;-84.30735
END:VEVENT
END:VCALENDAR