BEGIN:VCALENDAR
VERSION:2.0
PRODID:-//Tukios.com/
BEGIN:VEVENT
UID:eff3be7c-0552-4c36-89e1-8058b8b49ec3@www.jpmooremortuary.com
DTSTAMP:20260420T035557Z
DTSTART:20260424
SUMMARY:Final Resting Place
DESCRIPTION:
URL:https://www.jpmooremortuary.com/obituaries/cather-cusack-wilson
LOCATION: 4037 North Monroe Street  Tallahassee FL 32303
GEO:30.5088779;-84.3369909
END:VEVENT
END:VCALENDAR