BEGIN:VCALENDAR
VERSION:2.0
PRODID:-//Tukios.com/
BEGIN:VEVENT
UID:2979efd9-d5c5-46e8-b9b0-6ad6b3c94156@www.jpmooremortuary.com
DTSTAMP:20260420T003543Z
DTSTART:20260501T200000Z
DTEND:20260501T220000Z
SUMMARY:Viewing
DESCRIPTION:
URL:https://www.jpmooremortuary.com/obituaries/clifford-brown-jr
LOCATION: 379 W Base St  Madison FL 32340
GEO:30.4691105;-83.4196852
END:VEVENT
END:VCALENDAR