BEGIN:VCALENDAR
VERSION:2.0
PRODID:-//Tukios.com/
BEGIN:VEVENT
UID:f6aa2d5a-911e-406a-a2e2-4bc5508b3094@www.jpmooremortuary.com
DTSTAMP:20260420T004651Z
DTSTART:20260502T150000Z
DTEND:20260502T160000Z
SUMMARY:Funeral Service
DESCRIPTION:
URL:https://www.jpmooremortuary.com/obituaries/clifford-brown-jr
LOCATION: 576 Southwest Dade Street  Madison FL 32340
GEO:30.4671646;-83.4180141
END:VEVENT
END:VCALENDAR