BEGIN:VCALENDAR
VERSION:2.0
PRODID:-//Tukios.com/
BEGIN:VEVENT
UID:6c762371-3b65-4978-9f1f-90d891bafdbf@www.jpmooremortuary.com
DTSTAMP:20260420T003721Z
DTSTART:20260502
SUMMARY:Final Resting Place
DESCRIPTION:
URL:https://www.jpmooremortuary.com/obituaries/clifford-brown-jr
LOCATION: 394 Northwest Meeting Avenue  Madison FL 32340
GEO:30.474911;-83.41699
END:VEVENT
END:VCALENDAR